BEGIN:VCALENDAR
METHOD:REQUEST
PRODID:-//events.orgNONSGML ical.net 4.0//EN
VERSION:2.0
BEGIN:VEVENT
DTEND;VALUE=DATE:20260531
DTSTAMP:20260421T104031Z
DTSTART;VALUE=DATE:20260531
LOCATION:The Masquerade - Hell\, Atlanta
ORGANIZER;CN=:mailto:events@events.org
SEQUENCE:0
SUMMARY:Babyfxce E
UID:857a9a38-8689-4c9a-88e7-622a96d83bdd
URL:https://events.org/e/Babyfxce-E/EIWS6NCS
BEGIN:VALARM
ACTION:DISPLAY
SUMMARY:Reminder
TRIGGER:-P1D
END:VALARM
END:VEVENT
END:VCALENDAR
