BEGIN:VCALENDAR
METHOD:REQUEST
PRODID:-//events.orgNONSGML ical.net 4.0//EN
VERSION:2.0
BEGIN:VEVENT
DTEND;VALUE=DATE:20261021
DTSTAMP:20260422T083708Z
DTSTART;VALUE=DATE:20261021
LOCATION:9:30 CLUB\, Washington
ORGANIZER;CN=:mailto:events@events.org
SEQUENCE:0
SUMMARY:THE DAMNED - FINAL DAMNATION 50
UID:d85076c4-396b-4d92-a5f6-e625024cbdb6
URL:https://events.org/e/THE-DAMNED---FINAL-DAMNATION-50/VJ6SESDT
BEGIN:VALARM
ACTION:DISPLAY
SUMMARY:Reminder
TRIGGER:-P1D
END:VALARM
END:VEVENT
END:VCALENDAR
