BEGIN:VCALENDAR
METHOD:REQUEST
PRODID:-//events.orgNONSGML ical.net 4.0//EN
VERSION:2.0
BEGIN:VEVENT
DTEND;VALUE=DATE:20260619
DTSTAMP:20260421T082644Z
DTSTART;VALUE=DATE:20260619
LOCATION:Howard Theatre\, Washington
ORGANIZER;CN=:mailto:events@events.org
SEQUENCE:0
SUMMARY:3QUENCY – GIRLS TALK TOUR
UID:210d9b1d-8270-4599-9c8e-3ef35ceeb6f6
URL:https://events.org/e/3QUENCY---GIRLS-TALK-TOUR/XYSER3RK
BEGIN:VALARM
ACTION:DISPLAY
SUMMARY:Reminder
TRIGGER:-P1D
END:VALARM
END:VEVENT
END:VCALENDAR
