BEGIN:VCALENDAR
METHOD:REQUEST
PRODID:-//events.orgNONSGML ical.net 4.0//EN
VERSION:2.0
BEGIN:VEVENT
DTEND;VALUE=DATE:20260426
DTSTAMP:20260422T083923Z
DTSTART;VALUE=DATE:20260426
LOCATION:Majestic Theatre\, New York
ORGANIZER;CN=:mailto:events@events.org
SEQUENCE:0
SUMMARY:Beaches\, A New Musical
UID:9a97f5de-2393-4482-8e65-7aac6947a72f
URL:https://events.org/e/Beaches-A-New-Musical/JL69HHAQ
BEGIN:VALARM
ACTION:DISPLAY
SUMMARY:Reminder
TRIGGER:-P1D
END:VALARM
END:VEVENT
END:VCALENDAR
