BEGIN:VCALENDAR
METHOD:REQUEST
PRODID:-//events.orgNONSGML ical.net 4.0//EN
VERSION:2.0
BEGIN:VEVENT
DTEND;VALUE=DATE:20260710
DTSTAMP:20260422T090345Z
DTSTART;VALUE=DATE:20260710
LOCATION:Variety Playhouse\, Atlanta
ORGANIZER;CN=:mailto:events@events.org
SEQUENCE:0
SUMMARY:Dedrick Flynn
UID:bee0b938-0766-4f12-bbb2-67bc0175bfc1
URL:https://events.org/e/Dedrick-Flynn/X3FYL7MW
BEGIN:VALARM
ACTION:DISPLAY
SUMMARY:Reminder
TRIGGER:-P1D
END:VALARM
END:VEVENT
END:VCALENDAR
