BEGIN:VCALENDAR
METHOD:REQUEST
PRODID:-//events.orgNONSGML ical.net 4.0//EN
VERSION:2.0
BEGIN:VEVENT
DTEND;VALUE=DATE:20260424
DTSTAMP:20260422T091051Z
DTSTART;VALUE=DATE:20260424
LOCATION:New Amsterdam Theatre\, New York
ORGANIZER;CN=:mailto:events@events.org
SEQUENCE:0
SUMMARY:Aladdin
UID:7bf9dd26-e97e-4863-9bc2-38eab8d756c6
URL:https://events.org/e/Aladdin/DM4JO6DK
BEGIN:VALARM
ACTION:DISPLAY
SUMMARY:Reminder
TRIGGER:-P1D
END:VALARM
END:VEVENT
END:VCALENDAR
