BEGIN:VCALENDAR
METHOD:REQUEST
PRODID:-//events.orgNONSGML ical.net 4.0//EN
VERSION:2.0
BEGIN:VEVENT
DTEND;VALUE=DATE:20260428
DTSTAMP:20260424T080630Z
DTSTART;VALUE=DATE:20260428
LOCATION:Bowery Palace\, New York
ORGANIZER;CN=:mailto:events@events.org
SEQUENCE:0
SUMMARY:JUZU | Girl Mala | Emma Where
UID:001206e2-c76c-4b64-906e-f66b9305c0c5
URL:https://events.org/e/JUZU-Girl-Mala-Emma-Where/X7G63B3J
BEGIN:VALARM
ACTION:DISPLAY
SUMMARY:Reminder
TRIGGER:-P1D
END:VALARM
END:VEVENT
END:VCALENDAR
