BEGIN:VCALENDAR
METHOD:REQUEST
PRODID:-//events.orgNONSGML ical.net 4.0//EN
VERSION:2.0
BEGIN:VEVENT
DTEND;VALUE=DATE:20260624
DTSTAMP:20260421T104310Z
DTSTART;VALUE=DATE:20260624
LOCATION:The Observatory North Park\, San Diego
ORGANIZER;CN=:mailto:events@events.org
SEQUENCE:0
SUMMARY:You Should Know Podcast Presents: The YSK HOUSE Tour
UID:baa62f59-e732-4967-856c-792c2344af53
URL:https://events.org/e/You-Should-Know-Podcast-Presents-The-YSK-HOUS/6EH
 9BO9X
BEGIN:VALARM
ACTION:DISPLAY
SUMMARY:Reminder
TRIGGER:-P1D
END:VALARM
END:VEVENT
END:VCALENDAR
