BEGIN:VCALENDAR
METHOD:REQUEST
PRODID:-//events.orgNONSGML ical.net 4.0//EN
VERSION:2.0
BEGIN:VEVENT
DTEND;VALUE=DATE:20260503
DTSTAMP:20260425T102151Z
DTSTART;VALUE=DATE:20260503
LOCATION:Humphreys Backstage Live\, San Diego
ORGANIZER;CN=:mailto:events@events.org
SEQUENCE:0
SUMMARY:May Day Jazz Jam
UID:921e76d8-dea8-429f-9980-44dd70461ed0
URL:https://events.org/e/May-Day-Jazz-Jam/CA744HDM
BEGIN:VALARM
ACTION:DISPLAY
SUMMARY:Reminder
TRIGGER:-P1D
END:VALARM
END:VEVENT
END:VCALENDAR
