BEGIN:VCALENDAR
METHOD:REQUEST
PRODID:-//events.orgNONSGML ical.net 4.0//EN
VERSION:2.0
BEGIN:VEVENT
DTEND;VALUE=DATE:20260523
DTSTAMP:20260422T091806Z
DTSTART;VALUE=DATE:20260523
LOCATION:Copernicus Center\, Chicago
ORGANIZER;CN=:mailto:events@events.org
SEQUENCE:0
SUMMARY:YVES TOUR 2026: THE AMERICAS
UID:ff6f64fd-339c-44f4-a19f-09b6530dadef
URL:https://events.org/e/YVES-TOUR-2026-THE-AMERICAS/MUHB3CAI
BEGIN:VALARM
ACTION:DISPLAY
SUMMARY:Reminder
TRIGGER:-P1D
END:VALARM
END:VEVENT
END:VCALENDAR
