BEGIN:VCALENDAR
METHOD:REQUEST
PRODID:-//events.orgNONSGML ical.net 4.0//EN
VERSION:2.0
BEGIN:VEVENT
DTEND;VALUE=DATE:20260402
DTSTAMP:20260421T082524Z
DTSTART;VALUE=DATE:20260402
LOCATION:Gil Cates Theater- Geffen Playhouse\, Los Angeles
ORGANIZER;CN=:mailto:events@events.org
SEQUENCE:0
SUMMARY:Dragon Mama
UID:108839ef-80ee-4079-ac3b-a38f6bd65bfe
URL:https://events.org/e/Dragon-Mama/GK2YFBTU
BEGIN:VALARM
ACTION:DISPLAY
SUMMARY:Reminder
TRIGGER:-P1D
END:VALARM
END:VEVENT
END:VCALENDAR
