BEGIN:VCALENDAR
METHOD:REQUEST
PRODID:-//events.orgNONSGML ical.net 4.0//EN
VERSION:2.0
BEGIN:VEVENT
DTEND;VALUE=DATE:20260425
DTSTAMP:20260422T090545Z
DTSTART;VALUE=DATE:20260425
LOCATION:Museum of Chinese in America\, New York
ORGANIZER;CN=:mailto:events@events.org
SEQUENCE:0
SUMMARY:MOCA x Crazy Talented Asians & Friends: Portfolio Review Workshop
UID:4b2e51f2-0810-4f98-9dd7-4e44a69e6ab1
URL:https://events.org/e/MOCA-x-Crazy-Talented-Asians-Friends-Portfoli/HAS
 6ITIQ
BEGIN:VALARM
ACTION:DISPLAY
SUMMARY:Reminder
TRIGGER:-P1D
END:VALARM
END:VEVENT
END:VCALENDAR
