BEGIN:VCALENDAR
METHOD:REQUEST
PRODID:-//events.orgNONSGML ical.net 4.0//EN
VERSION:2.0
BEGIN:VEVENT
DTEND;VALUE=DATE:20260424
DTSTAMP:20260422T092141Z
DTSTART;VALUE=DATE:20260424
LOCATION:Majestic Theatre\, New York
ORGANIZER;CN=:mailto:events@events.org
SEQUENCE:0
SUMMARY:Beaches\, A New Musical
UID:6e79eeaf-7369-4754-a9b6-a32ee5b65de5
URL:https://events.org/e/Beaches-A-New-Musical/38GDU8LA
BEGIN:VALARM
ACTION:DISPLAY
SUMMARY:Reminder
TRIGGER:-P1D
END:VALARM
END:VEVENT
END:VCALENDAR
