BEGIN:VCALENDAR
METHOD:REQUEST
PRODID:-//events.orgNONSGML ical.net 4.0//EN
VERSION:2.0
BEGIN:VEVENT
DTEND;VALUE=DATE:20260616
DTSTAMP:20260422T083741Z
DTSTART;VALUE=DATE:20260616
LOCATION:The Echo Lounge & Music Hall\, Dallas
ORGANIZER;CN=:mailto:events@events.org
SEQUENCE:0
SUMMARY:The Reytons
UID:f45145af-e1ac-4760-9b30-9e9668f7d2f1
URL:https://events.org/e/The-Reytons/UMPRHBXH
BEGIN:VALARM
ACTION:DISPLAY
SUMMARY:Reminder
TRIGGER:-P1D
END:VALARM
END:VEVENT
END:VCALENDAR
