BEGIN:VCALENDAR
METHOD:REQUEST
PRODID:-//events.orgNONSGML ical.net 4.0//EN
VERSION:2.0
BEGIN:VEVENT
DTEND;VALUE=DATE:20260423
DTSTAMP:20260422T090345Z
DTSTART;VALUE=DATE:20260423
LOCATION:Stage 42\, New York
ORGANIZER;CN=:mailto:events@events.org
SEQUENCE:0
SUMMARY:Gotta Dance!
UID:a2a1d091-d9d7-4106-871e-4a654712b57d
URL:https://events.org/e/Gotta-Dance/ARLY8HL2
BEGIN:VALARM
ACTION:DISPLAY
SUMMARY:Reminder
TRIGGER:-P1D
END:VALARM
END:VEVENT
END:VCALENDAR
