BEGIN:VCALENDAR
METHOD:REQUEST
PRODID:-//events.orgNONSGML ical.net 4.0//EN
VERSION:2.0
BEGIN:VEVENT
DTEND;VALUE=DATE:20260426
DTSTAMP:20260423T133531Z
DTSTART;VALUE=DATE:20260426
LOCATION:Peacock Theater - LA\, Los Angeles
ORGANIZER;CN=:mailto:events@events.org
SEQUENCE:0
SUMMARY:Hatsune Miku
UID:8e25b147-a0dd-4ca6-a309-f1b62b99098c
URL:https://events.org/e/Hatsune-Miku/JCQHS87X
BEGIN:VALARM
ACTION:DISPLAY
SUMMARY:Reminder
TRIGGER:-P1D
END:VALARM
END:VEVENT
END:VCALENDAR
