BEGIN:VCALENDAR
METHOD:REQUEST
PRODID:-//events.orgNONSGML ical.net 4.0//EN
VERSION:2.0
BEGIN:VEVENT
DTEND;VALUE=DATE:20260610
DTSTAMP:20260421T104142Z
DTSTART;VALUE=DATE:20260610
LOCATION:Bluebird Theatre\, Denver
ORGANIZER;CN=:mailto:events@events.org
SEQUENCE:0
SUMMARY:Witch Club Satan
UID:c8dd4822-8caa-4fef-839d-24bf8c4a3d6e
URL:https://events.org/e/Witch-Club-Satan/A3XBUB6B
BEGIN:VALARM
ACTION:DISPLAY
SUMMARY:Reminder
TRIGGER:-P1D
END:VALARM
END:VEVENT
END:VCALENDAR
