BEGIN:VCALENDAR
METHOD:REQUEST
PRODID:-//events.orgNONSGML ical.net 4.0//EN
VERSION:2.0
BEGIN:VEVENT
DTEND;VALUE=DATE:20260907
DTSTAMP:20260422T090541Z
DTSTART;VALUE=DATE:20260907
LOCATION:Union Transfer\, Philadelphia
ORGANIZER;CN=:mailto:events@events.org
SEQUENCE:0
SUMMARY:Peter Hook & The Light
UID:af90a07b-622d-4e7a-b7ec-b1db8bfec7a6
URL:https://events.org/e/Peter-Hook-The-Light/RHGJ8OAU
BEGIN:VALARM
ACTION:DISPLAY
SUMMARY:Reminder
TRIGGER:-P1D
END:VALARM
END:VEVENT
END:VCALENDAR
