BEGIN:VCALENDAR
METHOD:REQUEST
PRODID:-//events.orgNONSGML ical.net 4.0//EN
VERSION:2.0
BEGIN:VEVENT
DTEND;VALUE=DATE:20260520
DTSTAMP:20260423T133149Z
DTSTART;VALUE=DATE:20260520
LOCATION:MilkBoy Philadelphia\, Philadelphia
ORGANIZER;CN=:mailto:events@events.org
SEQUENCE:0
SUMMARY:Emerson Woolf & the Wishbones (21+ Event)
UID:6b3bcf41-0370-44dd-8904-65fc531c751e
URL:https://events.org/e/Emerson-Woolf-the-Wishbones-21-Event/LYDIKHM7
BEGIN:VALARM
ACTION:DISPLAY
SUMMARY:Reminder
TRIGGER:-P1D
END:VALARM
END:VEVENT
END:VCALENDAR
