BEGIN:VCALENDAR
METHOD:REQUEST
PRODID:-//events.orgNONSGML ical.net 4.0//EN
VERSION:2.0
BEGIN:VEVENT
DTEND;VALUE=DATE:20260526
DTSTAMP:20260421T094932Z
DTSTART;VALUE=DATE:20260526
LOCATION:Neumos\, Seattle
ORGANIZER;CN=:mailto:events@events.org
SEQUENCE:0
SUMMARY:Vundabar w/ Goon
UID:a796f482-2d9e-43f6-8a4f-77aa5554880e
URL:https://events.org/e/Vundabar-w-Goon/33ELHMAT
BEGIN:VALARM
ACTION:DISPLAY
SUMMARY:Reminder
TRIGGER:-P1D
END:VALARM
END:VEVENT
END:VCALENDAR
