BEGIN:VCALENDAR
METHOD:REQUEST
PRODID:-//events.orgNONSGML ical.net 4.0//EN
VERSION:2.0
BEGIN:VEVENT
DTEND;VALUE=DATE:20260705
DTSTAMP:20260422T084752Z
DTSTART;VALUE=DATE:20260705
LOCATION:T-Mobile Park\, Seattle
ORGANIZER;CN=:mailto:events@events.org
SEQUENCE:0
SUMMARY:Seattle Mariners vs. Toronto Blue Jays
UID:4bd71b0e-d8a8-4374-b35e-84f6700482a0
URL:https://events.org/e/Seattle-Mariners-vs-Toronto-Blue-Jays/68NX4F89
BEGIN:VALARM
ACTION:DISPLAY
SUMMARY:Reminder
TRIGGER:-P1D
END:VALARM
END:VEVENT
END:VCALENDAR
