BEGIN:VCALENDAR
METHOD:REQUEST
PRODID:-//events.orgNONSGML ical.net 4.0//EN
VERSION:2.0
BEGIN:VEVENT
DTEND;VALUE=DATE:20260429
DTSTAMP:20260424T080750Z
DTSTART;VALUE=DATE:20260429
LOCATION:Majestic Theatre\, New York
ORGANIZER;CN=:mailto:events@events.org
SEQUENCE:0
SUMMARY:Beaches\, A New Musical
UID:955bd802-755f-49e4-a4e4-ff9009135ccd
URL:https://events.org/e/Beaches-A-New-Musical/4DVYY6QS
BEGIN:VALARM
ACTION:DISPLAY
SUMMARY:Reminder
TRIGGER:-P1D
END:VALARM
END:VEVENT
END:VCALENDAR
