BEGIN:VCALENDAR
METHOD:REQUEST
PRODID:-//events.orgNONSGML ical.net 4.0//EN
VERSION:2.0
BEGIN:VEVENT
DTEND;VALUE=DATE:20260808
DTSTAMP:20260421T082224Z
DTSTART;VALUE=DATE:20260808
LOCATION:The Rebel Lounge\, Phoenix
ORGANIZER;CN=:mailto:events@events.org
SEQUENCE:0
SUMMARY:King Cherry's Vampire Masquerade
UID:a1dccb9d-e12c-4605-a49c-678f5575b371
URL:https://events.org/e/King-Cherrys-Vampire-Masquerade/3PPMT3SO
BEGIN:VALARM
ACTION:DISPLAY
SUMMARY:Reminder
TRIGGER:-P1D
END:VALARM
END:VEVENT
END:VCALENDAR
