BEGIN:VCALENDAR
METHOD:REQUEST
PRODID:-//events.orgNONSGML ical.net 4.0//EN
VERSION:2.0
BEGIN:VEVENT
DTEND;VALUE=DATE:20260514
DTSTAMP:20260424T064039Z
DTSTART;VALUE=DATE:20260514
LOCATION:Marian Anderson Hall - Kimmel Center\, Philadelphia
ORGANIZER;CN=:mailto:events@events.org
SEQUENCE:0
SUMMARY:Philadelphia Orchestra Postcards from Spain
UID:d4f35896-7c3b-4303-997e-ddee6c05bc85
URL:https://events.org/e/Philadelphia-Orchestra-Postcards-from-Spain/8M9U3
 JAO
BEGIN:VALARM
ACTION:DISPLAY
SUMMARY:Reminder
TRIGGER:-P1D
END:VALARM
END:VEVENT
END:VCALENDAR
