BEGIN:VCALENDAR
METHOD:REQUEST
PRODID:-//events.orgNONSGML ical.net 4.0//EN
VERSION:2.0
BEGIN:VEVENT
DTEND;VALUE=DATE:20260424
DTSTAMP:20260422T092000Z
DTSTART;VALUE=DATE:20260424
LOCATION:Mercury Lounge\, New York
ORGANIZER;CN=:mailto:events@events.org
SEQUENCE:0
SUMMARY:Oceanic and Borderline
UID:0cde7969-e40f-4acd-a4e4-f519dd3a762d
URL:https://events.org/e/Oceanic-and-Borderline/6LSYQ7YY
BEGIN:VALARM
ACTION:DISPLAY
SUMMARY:Reminder
TRIGGER:-P1D
END:VALARM
END:VEVENT
END:VCALENDAR
