BEGIN:VCALENDAR
METHOD:REQUEST
PRODID:-//events.orgNONSGML ical.net 4.0//EN
VERSION:2.0
BEGIN:VEVENT
DTEND;VALUE=DATE:20260423
DTSTAMP:20260422T091421Z
DTSTART;VALUE=DATE:20260423
LOCATION:James Earl Jones Theatre\, New York
ORGANIZER;CN=:mailto:events@events.org
SEQUENCE:0
SUMMARY:The Fear of 13
UID:6ec8cd01-9049-4923-bbc9-579cba02b896
URL:https://events.org/e/The-Fear-of-13/9ADT85FQ
BEGIN:VALARM
ACTION:DISPLAY
SUMMARY:Reminder
TRIGGER:-P1D
END:VALARM
END:VEVENT
END:VCALENDAR
