BEGIN:VCALENDAR
METHOD:REQUEST
PRODID:-//events.orgNONSGML ical.net 4.0//EN
VERSION:2.0
BEGIN:VEVENT
DTEND;VALUE=DATE:20260506
DTSTAMP:20260421T095729Z
DTSTART;VALUE=DATE:20260506
LOCATION:Tabernacle\, Atlanta
ORGANIZER;CN=:mailto:events@events.org
SEQUENCE:0
SUMMARY:Courtney Barnett - Creature of Habit Tour
UID:081d3ef8-651a-43b7-8ac2-90c0c248e247
URL:https://events.org/e/Courtney-Barnett---Creature-of-Habit-Tour/BP67V3XS
BEGIN:VALARM
ACTION:DISPLAY
SUMMARY:Reminder
TRIGGER:-P1D
END:VALARM
END:VEVENT
END:VCALENDAR
