BEGIN:VCALENDAR
METHOD:REQUEST
PRODID:-//events.orgNONSGML ical.net 4.0//EN
VERSION:2.0
BEGIN:VEVENT
DTEND;VALUE=DATE:20260425
DTSTAMP:20260423T093938Z
DTSTART;VALUE=DATE:20260425
LOCATION:Teragram Ballroom\, Los Angeles
ORGANIZER;CN=:mailto:events@events.org
SEQUENCE:0
SUMMARY:Zebra: 50th Anniversary Tour - Hosted By Eddie Trunk
UID:ed549ecc-3a63-433e-9ae7-0aa434715be2
URL:https://events.org/e/Zebra-50th-Anniversary-Tour---Hosted-By-Eddie/BOU
 WDKAW
BEGIN:VALARM
ACTION:DISPLAY
SUMMARY:Reminder
TRIGGER:-P1D
END:VALARM
END:VEVENT
END:VCALENDAR
