BEGIN:VCALENDAR
METHOD:REQUEST
PRODID:-//events.orgNONSGML ical.net 4.0//EN
VERSION:2.0
BEGIN:VEVENT
DTEND;VALUE=DATE:20260530
DTSTAMP:20260421T131141Z
DTSTART;VALUE=DATE:20260530
LOCATION:Atlanta Symphony Hall\, Atlanta
ORGANIZER;CN=:mailto:events@events.org
SEQUENCE:0
SUMMARY:Stutzmann Conducts Tchaikovsky
UID:5d5e3f81-03da-4557-9290-04f922f78572
URL:https://events.org/e/Stutzmann-Conducts-Tchaikovsky/F96JD924
BEGIN:VALARM
ACTION:DISPLAY
SUMMARY:Reminder
TRIGGER:-P1D
END:VALARM
END:VEVENT
END:VCALENDAR
