BEGIN:VCALENDAR
METHOD:REQUEST
PRODID:-//events.orgNONSGML ical.net 4.0//EN
VERSION:2.0
BEGIN:VEVENT
DTEND;VALUE=DATE:20260425
DTSTAMP:20260421T095751Z
DTSTART;VALUE=DATE:20260425
LOCATION:Joe's on Weed Street\, Chicago
ORGANIZER;CN=:mailto:events@events.org
SEQUENCE:0
SUMMARY:A Concert for a Cause: The Andrew Weishar Foundation with The Base
 ment Bums
UID:012a975e-46ee-45f4-9241-08feb0a885b2
URL:https://events.org/e/A-Concert-for-a-Cause-The-Andrew-Weishar-Foun/LUW
 QTWG8
BEGIN:VALARM
ACTION:DISPLAY
SUMMARY:Reminder
TRIGGER:-P1D
END:VALARM
END:VEVENT
END:VCALENDAR
