BEGIN:VCALENDAR
METHOD:REQUEST
PRODID:-//events.orgNONSGML ical.net 4.0//EN
VERSION:2.0
BEGIN:VEVENT
DTEND;VALUE=DATE:20260708
DTSTAMP:20260422T092340Z
DTSTART;VALUE=DATE:20260708
LOCATION:State Farm Arena\, Atlanta
ORGANIZER;CN=:mailto:events@events.org
SEQUENCE:0
SUMMARY:Ariana Grande - The Eternal Sunshine Tour
UID:ffe4ee9c-a694-487f-9fb3-4eb6011fa08d
URL:https://events.org/e/Ariana-Grande---The-Eternal-Sunshine-Tour/8YKWTTWD
BEGIN:VALARM
ACTION:DISPLAY
SUMMARY:Reminder
TRIGGER:-P1D
END:VALARM
END:VEVENT
END:VCALENDAR
