BEGIN:VCALENDAR
METHOD:REQUEST
PRODID:-//events.orgNONSGML ical.net 4.0//EN
VERSION:2.0
BEGIN:VEVENT
DTEND;VALUE=DATE:20260516
DTSTAMP:20260422T091353Z
DTSTART;VALUE=DATE:20260516
LOCATION:The Belasco\, Los Angeles
ORGANIZER;CN=:mailto:events@events.org
SEQUENCE:0
SUMMARY:Noise Complaints Presents The Late Night R&B Experience Tour
UID:96edf4bb-1aa8-4330-899a-f3f38d1afdf1
URL:https://events.org/e/Noise-Complaints-Presents-The-Late-Night-RB-E/W4U
 FOWC5
BEGIN:VALARM
ACTION:DISPLAY
SUMMARY:Reminder
TRIGGER:-P1D
END:VALARM
END:VEVENT
END:VCALENDAR
