BEGIN:VCALENDAR
METHOD:REQUEST
PRODID:-//events.orgNONSGML ical.net 4.0//EN
VERSION:2.0
BEGIN:VEVENT
DTEND;VALUE=DATE:20260731
DTSTAMP:20260424T092036Z
DTSTART;VALUE=DATE:20260731
LOCATION:White Oak Music Hall - Upstairs \, Houston
ORGANIZER;CN=:mailto:events@events.org
SEQUENCE:0
SUMMARY:Sleepytime Gorilla Museum
UID:5e7755c9-1c93-4920-b95e-6265ad47eb9a
URL:https://events.org/e/Sleepytime-Gorilla-Museum/A3FM8A4U
BEGIN:VALARM
ACTION:DISPLAY
SUMMARY:Reminder
TRIGGER:-P1D
END:VALARM
END:VEVENT
END:VCALENDAR
