BEGIN:VCALENDAR
METHOD:REQUEST
PRODID:-//events.orgNONSGML ical.net 4.0//EN
VERSION:2.0
BEGIN:VEVENT
DTEND;VALUE=DATE:20260602
DTSTAMP:20260421T095246Z
DTSTART;VALUE=DATE:20260602
LOCATION:Valley Bar\, Phoenix
ORGANIZER;CN=:mailto:events@events.org
SEQUENCE:0
SUMMARY:KELSY KARTER & THE HEROINES: THE PLEASURE TOUR
UID:b85c4782-6d99-4543-b063-406ba5688931
URL:https://events.org/e/KELSY-KARTER-THE-HEROINES-THE-PLEASURE-TOUR/SEPWK
 SJP
BEGIN:VALARM
ACTION:DISPLAY
SUMMARY:Reminder
TRIGGER:-P1D
END:VALARM
END:VEVENT
END:VCALENDAR
