BEGIN:VCALENDAR
METHOD:REQUEST
PRODID:-//events.orgNONSGML ical.net 4.0//EN
VERSION:2.0
BEGIN:VEVENT
DTEND;VALUE=DATE:20260628
DTSTAMP:20260422T091347Z
DTSTART;VALUE=DATE:20260628
LOCATION:Humphreys Backstage Live\, San Diego
ORGANIZER;CN=:mailto:events@events.org
SEQUENCE:0
SUMMARY:Darryl Williams
UID:de5f0779-6268-4a16-87cc-5230e11440e8
URL:https://events.org/e/Darryl-Williams/PTK2PUVM
BEGIN:VALARM
ACTION:DISPLAY
SUMMARY:Reminder
TRIGGER:-P1D
END:VALARM
END:VEVENT
END:VCALENDAR
