BEGIN:VCALENDAR
METHOD:REQUEST
PRODID:-//events.orgNONSGML ical.net 4.0//EN
VERSION:2.0
BEGIN:VEVENT
DTEND;VALUE=DATE:20260920
DTSTAMP:20260424T092203Z
DTSTART;VALUE=DATE:20260920
LOCATION:Humphreys Concerts By the Bay\, San Diego
ORGANIZER;CN=:mailto:events@events.org
SEQUENCE:0
SUMMARY:The Temptations & The Four Tops
UID:f10017a5-06bd-4cde-bc50-abb0a5681c9b
URL:https://events.org/e/The-Temptations-The-Four-Tops/EX5VLRHX
BEGIN:VALARM
ACTION:DISPLAY
SUMMARY:Reminder
TRIGGER:-P1D
END:VALARM
END:VEVENT
END:VCALENDAR
