BEGIN:VCALENDAR
METHOD:REQUEST
PRODID:-//events.orgNONSGML ical.net 4.0//EN
VERSION:2.0
BEGIN:VEVENT
DTEND;VALUE=DATE:20260612
DTSTAMP:20260419T142633Z
DTSTART;VALUE=DATE:20260612
LOCATION:The Fillmore\, San Francisco
ORGANIZER;CN=:mailto:events@events.org
SEQUENCE:0
SUMMARY:Toadies: The Charmer Tour
UID:eac37862-7b3f-42a6-a2f4-de4673306e64
URL:https://events.org/e/Toadies-The-Charmer-Tour/VLR76UCC
BEGIN:VALARM
ACTION:DISPLAY
SUMMARY:Reminder
TRIGGER:-P1D
END:VALARM
END:VEVENT
END:VCALENDAR
