BEGIN:VCALENDAR
METHOD:REQUEST
PRODID:-//events.orgNONSGML ical.net 4.0//EN
VERSION:2.0
BEGIN:VEVENT
DTEND;VALUE=DATE:20260422
DTSTAMP:20260421T081924Z
DTSTART;VALUE=DATE:20260422
LOCATION:Helen Hayes Theatre\, New York
ORGANIZER;CN=:mailto:events@events.org
SEQUENCE:0
SUMMARY:Becky Shaw
UID:9e3cc9a7-6380-4126-8562-3f0b5285072a
URL:https://events.org/e/Becky-Shaw/OBGEXN3J
BEGIN:VALARM
ACTION:DISPLAY
SUMMARY:Reminder
TRIGGER:-P1D
END:VALARM
END:VEVENT
END:VCALENDAR
