BEGIN:VCALENDAR
METHOD:REQUEST
PRODID:-//events.orgNONSGML ical.net 4.0//EN
VERSION:2.0
BEGIN:VEVENT
DTEND;VALUE=DATE:20260427
DTSTAMP:20260424T080801Z
DTSTART;VALUE=DATE:20260427
LOCATION:New World Stages - Stage 1\, New York
ORGANIZER;CN=:mailto:events@events.org
SEQUENCE:0
SUMMARY:Heathers: The Musical
UID:49225b83-9d71-4b8f-81c6-68f0463aaec0
URL:https://events.org/e/Heathers-The-Musical/O6G8JQ3T
BEGIN:VALARM
ACTION:DISPLAY
SUMMARY:Reminder
TRIGGER:-P1D
END:VALARM
END:VEVENT
END:VCALENDAR
