BEGIN:VCALENDAR
METHOD:REQUEST
PRODID:-//events.orgNONSGML ical.net 4.0//EN
VERSION:2.0
BEGIN:VEVENT
DTEND;VALUE=DATE:20260618
DTSTAMP:20260421T133145Z
DTSTART;VALUE=DATE:20260618
LOCATION:TD Pavilion at Highmark Mann\, Philadelphia
ORGANIZER;CN=:mailto:events@events.org
SEQUENCE:0
SUMMARY:50 Years of Music in the Park with The Philadelphia Orchestra
UID:2203911c-5243-4039-bbf3-105cae2dc08c
URL:https://events.org/e/50-Years-of-Music-in-the-Park-with-The-Philad/NXT
 UQEF9
BEGIN:VALARM
ACTION:DISPLAY
SUMMARY:Reminder
TRIGGER:-P1D
END:VALARM
END:VEVENT
END:VCALENDAR
