BEGIN:VCALENDAR
METHOD:REQUEST
PRODID:-//events.orgNONSGML ical.net 4.0//EN
VERSION:2.0
BEGIN:VEVENT
DTEND;VALUE=DATE:20260808
DTSTAMP:20260421T094517Z
DTSTART;VALUE=DATE:20260808
LOCATION:Granada Theater - TX\, Dallas
ORGANIZER;CN=:mailto:events@events.org
SEQUENCE:0
SUMMARY:Eagles of Death Metal
UID:39acbc53-6b43-4c55-b277-b4fb06dc034e
URL:https://events.org/e/Eagles-of-Death-Metal/OWUID7WS
BEGIN:VALARM
ACTION:DISPLAY
SUMMARY:Reminder
TRIGGER:-P1D
END:VALARM
END:VEVENT
END:VCALENDAR
