BEGIN:VCALENDAR
METHOD:REQUEST
PRODID:-//events.orgNONSGML ical.net 4.0//EN
VERSION:2.0
BEGIN:VEVENT
DTEND;VALUE=DATE:20260529
DTSTAMP:20260424T081037Z
DTSTART;VALUE=DATE:20260529
LOCATION:Chicago Shakespeare Theater\, Chicago
ORGANIZER;CN=:mailto:events@events.org
SEQUENCE:0
SUMMARY:Brokeback Mountain
UID:fdb86199-f325-4cb7-adb2-4bf062a8fb7b
URL:https://events.org/e/Brokeback-Mountain/AOAH9JQB
BEGIN:VALARM
ACTION:DISPLAY
SUMMARY:Reminder
TRIGGER:-P1D
END:VALARM
END:VEVENT
END:VCALENDAR
