BEGIN:VCALENDAR
METHOD:REQUEST
PRODID:-//events.orgNONSGML ical.net 4.0//EN
VERSION:2.0
BEGIN:VEVENT
DTEND;VALUE=DATE:20261025
DTSTAMP:20260421T082457Z
DTSTART;VALUE=DATE:20261025
LOCATION:Benchmark International Arena\, Tampa
ORGANIZER;CN=:mailto:events@events.org
SEQUENCE:0
SUMMARY:Teddy Swims: The UGLY Tour
UID:28a512b6-d5f4-4664-b917-3cdba0803241
URL:https://events.org/e/Teddy-Swims-The-UGLY-Tour/CHFY9BVY
BEGIN:VALARM
ACTION:DISPLAY
SUMMARY:Reminder
TRIGGER:-P1D
END:VALARM
END:VEVENT
END:VCALENDAR
