BEGIN:VCALENDAR
METHOD:REQUEST
PRODID:-//events.orgNONSGML ical.net 4.0//EN
VERSION:2.0
BEGIN:VEVENT
DTEND;VALUE=DATE:20260525
DTSTAMP:20260421T095122Z
DTSTART;VALUE=DATE:20260525
LOCATION:Tractor\, Seattle
ORGANIZER;CN=:mailto:events@events.org
SEQUENCE:0
SUMMARY:Tractor Tavern Square Dance w/ Frying Pan Gustationers with Alex M
 acLeod
UID:80d92085-392b-4ce6-a3d8-e28afff6c4c6
URL:https://events.org/e/Tractor-Tavern-Square-Dance-w-Frying-Pan-Gust/XDJ
 DC7KM
BEGIN:VALARM
ACTION:DISPLAY
SUMMARY:Reminder
TRIGGER:-P1D
END:VALARM
END:VEVENT
END:VCALENDAR
