BEGIN:VCALENDAR
METHOD:REQUEST
PRODID:-//events.orgNONSGML ical.net 4.0//EN
VERSION:2.0
BEGIN:VEVENT
DTEND;VALUE=DATE:20260626
DTSTAMP:20260422T091420Z
DTSTART;VALUE=DATE:20260626
LOCATION:The Crocodile\, Seattle
ORGANIZER;CN=:mailto:events@events.org
SEQUENCE:0
SUMMARY:Skillibeng\; Badman She Love Tour w/ MOLIY
UID:7bd78808-7143-431e-837e-0ab26b8462d1
URL:https://events.org/e/Skillibeng-Badman-She-Love-Tour-w-MOLIY/VPKLR4C6
BEGIN:VALARM
ACTION:DISPLAY
SUMMARY:Reminder
TRIGGER:-P1D
END:VALARM
END:VEVENT
END:VCALENDAR
