BEGIN:VCALENDAR
METHOD:REQUEST
PRODID:-//events.orgNONSGML ical.net 4.0//EN
VERSION:2.0
BEGIN:VEVENT
DTEND;VALUE=DATE:20260919
DTSTAMP:20260419T143154Z
DTSTART;VALUE=DATE:20260919
LOCATION:House of Blues Dallas \, Dallas
ORGANIZER;CN=:mailto:events@events.org
SEQUENCE:0
SUMMARY:Slayyyter - WOR$T GIRL IN THE WORLD TOUR
UID:b3f736e1-df2b-4d85-b718-2062dd646b3f
URL:https://events.org/e/Slayyyter---WORT-GIRL-IN-THE-WORLD-TOUR/6NOC34T5
BEGIN:VALARM
ACTION:DISPLAY
SUMMARY:Reminder
TRIGGER:-P1D
END:VALARM
END:VEVENT
END:VCALENDAR
