BEGIN:VCALENDAR
METHOD:REQUEST
PRODID:-//events.orgNONSGML ical.net 4.0//EN
VERSION:2.0
BEGIN:VEVENT
DTEND;VALUE=DATE:20260427
DTSTAMP:20260424T081039Z
DTSTART;VALUE=DATE:20260427
LOCATION:Mercury Lounge\, New York
ORGANIZER;CN=:mailto:events@events.org
SEQUENCE:0
SUMMARY:Bre Kennedy
UID:c947edb5-2a70-4322-9cff-828aff4992f7
URL:https://events.org/e/Bre-Kennedy/YDWHTMU4
BEGIN:VALARM
ACTION:DISPLAY
SUMMARY:Reminder
TRIGGER:-P1D
END:VALARM
END:VEVENT
END:VCALENDAR
