BEGIN:VCALENDAR
METHOD:REQUEST
PRODID:-//events.orgNONSGML ical.net 4.0//EN
VERSION:2.0
BEGIN:VEVENT
DTEND;VALUE=DATE:20260522
DTSTAMP:20260422T090634Z
DTSTART;VALUE=DATE:20260522
LOCATION:Joe's on Weed Street\, Chicago
ORGANIZER;CN=:mailto:events@events.org
SEQUENCE:0
SUMMARY:Jazz at Joe's: The Bean Tones with Frankie Found
UID:93d1423a-1218-4d61-9587-07696ea638b9
URL:https://events.org/e/Jazz-at-Joes-The-Bean-Tones-with-Frankie-Found/I5
 246DKA
BEGIN:VALARM
ACTION:DISPLAY
SUMMARY:Reminder
TRIGGER:-P1D
END:VALARM
END:VEVENT
END:VCALENDAR
