BEGIN:VCALENDAR
METHOD:REQUEST
PRODID:-//events.orgNONSGML ical.net 4.0//EN
VERSION:2.0
BEGIN:VEVENT
DTEND;VALUE=DATE:20260624
DTSTAMP:20260422T090626Z
DTSTART;VALUE=DATE:20260624
LOCATION:Showbox SODO\, Seattle
ORGANIZER;CN=:mailto:events@events.org
SEQUENCE:0
SUMMARY:Our Lady Peace (21 and Over)
UID:4f436e85-b3d2-4f9f-b1a1-59e981a853c0
URL:https://events.org/e/Our-Lady-Peace-21-and-Over/DVBTLDGW
BEGIN:VALARM
ACTION:DISPLAY
SUMMARY:Reminder
TRIGGER:-P1D
END:VALARM
END:VEVENT
END:VCALENDAR
