BEGIN:VCALENDAR
METHOD:REQUEST
PRODID:-//events.orgNONSGML ical.net 4.0//EN
VERSION:2.0
BEGIN:VEVENT
DTEND;VALUE=DATE:20260610
DTSTAMP:20260421T114827Z
DTSTART;VALUE=DATE:20260610
LOCATION:Buell Theatre\, Denver
ORGANIZER;CN=:mailto:events@events.org
SEQUENCE:0
SUMMARY:Harry Potter and the Cursed Child (Touring)
UID:817244ca-f887-4633-8f82-8bc3ee60ec00
URL:https://events.org/e/Harry-Potter-and-the-Cursed-Child-Touring/9H3X9U7G
BEGIN:VALARM
ACTION:DISPLAY
SUMMARY:Reminder
TRIGGER:-P1D
END:VALARM
END:VEVENT
END:VCALENDAR
